BEGIN:VCALENDAR
VERSION:2.0
PRODID:-//ChamberMaster//Event Calendar 2.0//EN
METHOD:PUBLISH
X-PUBLISHED-TTL:P3D
REFRESH-INTERVAL:P3D
CALSCALE:GREGORIAN
BEGIN:VEVENT
DTSTART;VALUE=DATE:20170912
DTEND;VALUE=DATE:20170913
TRANSP:TRANSPARENT
X-MICROSOFT-CDO-ALLDAYEVENT:TRUE
SUMMARY:FV Chamber & Leaders in Action / Toastmasters Open House
DESCRIPTION:FV Chamber & Leaders In Action /\n\nToastmasters Open House\nThis will be a special event\, as the Fountain Valley Chamber of Commerce and Leaders In Action - Toastmasters team up to present the benefits of mastering the art of speaking\, business networking\, and leadership development.
X-ALT-DESC;FMTTYPE=text/html:<h1 class="_5gmx" data-testid="event-permalink-event-name" id="seo_h1_tag"><span style="font-size:18px\;"><strong>FV Chamber &amp\; Leaders In Action /<br />\nToastmasters Open House</strong></span></h1>\n<span class="_4n-j _fbReactionComponent__eventDetailsContentTags fsl" data-testid="event-permalink-details">This will be a special event\, as the Fountain Valley Chamber of Commerce and Leaders In Action - Toastmasters team up to present the benefits of mastering the art of speaking\, business networking\, and leadership development.</span>
LOCATION:Fountain Bowl 17110 Warner Ave. Fountain Valley\, CA 92708
UID:e.2030.4224
SEQUENCE:3
DTSTAMP:20260424T142440Z
URL:http://business.fvchamber.com/events/details/fv-chamber-leaders-in-action-toastmasters-open-house-4224
END:VEVENT

END:VCALENDAR
