BEGIN:VCALENDAR
VERSION:2.0
PRODID:-//ChamberMaster//Event Calendar 2.0//EN
METHOD:PUBLISH
X-PUBLISHED-TTL:P3D
REFRESH-INTERVAL:P3D
CALSCALE:GREGORIAN
BEGIN:VEVENT
DTSTART:20190820T183000Z
DTEND:20190820T203000Z
X-MICROSOFT-CDO-ALLDAYEVENT:FALSE
SUMMARY:FV Chamber Board of Directors Meeting
DESCRIPTION:Event Description:\n\nFountain Valley Chamber of Commerce\n\nBoard of Directors Meeting
X-ALT-DESC;FMTTYPE=text/html:<strong><span style="color:#000000\;"><span style="font-family:verdana\;"><span style="font-size:12px\;"><span style="font-size:14px\;">Event Description:<br />\nFountain Valley Chamber of Commerce<br />\nBoard of Directors Meeting</span></span></span></span></strong>
LOCATION:Fountain Bowl 17110 Brookhurst St. Fountain Valley
UID:e.2030.5128
SEQUENCE:3
DTSTAMP:20260423T040315Z
URL:http://business.fvchamber.com/events/details/fv-chamber-board-of-directors-meeting-5128
END:VEVENT

END:VCALENDAR
