BEGIN:VCALENDAR
VERSION:2.0
PRODID:-//ChamberMaster//Event Calendar 2.0//EN
METHOD:PUBLISH
X-PUBLISHED-TTL:P3D
REFRESH-INTERVAL:P3D
CALSCALE:GREGORIAN
BEGIN:VEVENT
DTSTART:20180821T183000Z
DTEND:20180821T203000Z
X-MICROSOFT-CDO-ALLDAYEVENT:FALSE
SUMMARY:FV Chamber Board of Directors Meeting
DESCRIPTION:Fountain Valley Chamber of Commerce\n\nBoard of Directors Meeting
X-ALT-DESC;FMTTYPE=text/html:<span style="font-size:16px\;"><strong>Fountain Valley Chamber of Commerce<br />\nBoard of Directors Meeting</strong></span>
LOCATION:Fountain Bowl 17110 Warner Ave. Fountain Valley
UID:e.2030.2206
SEQUENCE:3
DTSTAMP:20260423T204029Z
URL:http://business.fvchamber.com/events/details/fv-chamber-board-of-directors-meeting-08-21-2018-2206
END:VEVENT

END:VCALENDAR
