BEGIN:VCALENDAR
VERSION:2.0
PRODID:-//ChamberMaster//Event Calendar 2.0//EN
METHOD:PUBLISH
X-PUBLISHED-TTL:P3D
REFRESH-INTERVAL:P3D
CALSCALE:GREGORIAN
BEGIN:VEVENT
DTSTART:20220621T170000Z
DTEND:20220621T190000Z
X-MICROSOFT-CDO-ALLDAYEVENT:FALSE
SUMMARY:FV Chamber Board of Directors Meeting
DESCRIPTION:Fountain Valley Chamber of Commerce\n\nBoard of Directors Meeting
X-ALT-DESC;FMTTYPE=text/html:<span style="font-size:16px\;"><strong>Fountain Valley Chamber of Commerce<br />\nBoard of Directors Meeting</strong></span>
LOCATION:Lamppost Pizza\, F.V.
UID:e.2030.2252
SEQUENCE:3
DTSTAMP:20260420T171828Z
URL:http://business.fvchamber.com/events/details/fv-chamber-board-of-directors-meeting-06-21-2022-2252
END:VEVENT

END:VCALENDAR
