BEGIN:VCALENDAR
VERSION:2.0
PRODID:-//ChamberMaster//Event Calendar 2.0//EN
METHOD:PUBLISH
X-PUBLISHED-TTL:P3D
REFRESH-INTERVAL:P3D
CALSCALE:GREGORIAN
BEGIN:VEVENT
DTSTART:20220106T180000Z
DTEND:20220106T200000Z
X-MICROSOFT-CDO-ALLDAYEVENT:FALSE
SUMMARY:Fund Your Business with Sponsors
DESCRIPTION:Have you ever thought about getting funding from corporate sponsors for your business\, speaking\, book\, show\, charity\, projects or events? America's most successful companies partner with sponsors. Why not you? Linda Hollander\, CEO of Sponsor Concierge\, can help you. She the founder of the Sponsor Secrets Seminar and the author of the best-selling book\, Corporate Sponsorship in 3 Easy Steps. Linda has consulted with many large and small businesses to help them profit from the awesome power of corporate sponsors and has 20 years of experience in business. This is for people who want success now. Those afraid of rapid business growth need not apply. Guaranteed to be fun and informative.
X-ALT-DESC;FMTTYPE=text/html:<span style="color: rgb(43\, 55\, 77)\; font-family: ModernSans\, Arial\, Helvetica\, sans-serif\; font-size: 16px\; background-color: rgb(255\, 255\, 255)\;">Have you ever thought about getting funding from corporate sponsors for your business\, speaking\, book\, show\, charity\, projects or events? America&rsquo\;s most successful companies partner with sponsors. Why not you? Linda Hollander\, CEO of Sponsor Concierge\, can help you. She the founder of the Sponsor Secrets Seminar and the author of the best-selling book\, Corporate Sponsorship in 3 Easy Steps. Linda has consulted with many large and small businesses to help them profit from the awesome power of corporate sponsors and has 20 years of experience in business. This is for people who want success now. Those afraid of rapid business growth need not apply. Guaranteed to be fun and informative.</span>
LOCATION:Online webinar
UID:e.2030.5412
SEQUENCE:3
DTSTAMP:20260421T014734Z
URL:http://business.fvchamber.com/events/details/fund-your-business-with-sponsors-5412
END:VEVENT

END:VCALENDAR
