BEGIN:VCALENDAR
VERSION:2.0
PRODID:-//ChamberMaster//Event Calendar 2.0//EN
METHOD:PUBLISH
X-PUBLISHED-TTL:P3D
REFRESH-INTERVAL:P3D
CALSCALE:GREGORIAN
BEGIN:VEVENT
DTSTART:20220125T180000Z
DTEND:20220125T200000Z
X-MICROSOFT-CDO-ALLDAYEVENT:FALSE
SUMMARY:From Online to Inline- Pop up Retail for Beginners
DESCRIPTION:The brick and mortar retail landscape is rapidly changing\, in this webinar you will learn the seven secrets to success in pop-up retailing\, how to take your brand from online to inline\, turn to much inventory into cash fast and a tried and tested method to grow your retail business in 2022
X-ALT-DESC;FMTTYPE=text/html:<span style="color: rgb(43\, 55\, 77)\; font-family: ModernSans\, Arial\, Helvetica\, sans-serif\; font-size: 16px\; background-color: rgb(255\, 255\, 255)\;">The brick and mortar retail landscape is rapidly changing\, in this webinar you will learn the seven secrets to success in pop-up retailing\, how to take your brand from online to inline\, turn to much inventory into cash fast and a tried and tested method to grow your retail business in 2022</span>
LOCATION:Online Webinar
UID:e.2030.5417
SEQUENCE:3
DTSTAMP:20260421T014606Z
URL:http://business.fvchamber.com/events/details/from-online-to-inline-pop-up-retail-for-beginners-5417
END:VEVENT

END:VCALENDAR
