BEGIN:VCALENDAR
VERSION:2.0
PRODID:-//ChamberMaster//Event Calendar 2.0//EN
METHOD:PUBLISH
X-PUBLISHED-TTL:P3D
REFRESH-INTERVAL:P3D
CALSCALE:GREGORIAN
BEGIN:VEVENT
DTSTART:20170707T000000Z
DTEND:20170707T030000Z
X-MICROSOFT-CDO-ALLDAYEVENT:FALSE
SUMMARY:Fountain Valleys Market In The Park Certified Farmers Market.
DESCRIPTION:Fountain Valleys Market In The Park\n\nCertified Farmers Market.
X-ALT-DESC;FMTTYPE=text/html:<span style="font-size: 15pt\; font-family: &quot\;Times New Roman&quot\;\, serif\;"><strong>Fountain Valleys Market In The Park<br>\nCertified Farmers Market</strong>.</span>
LOCATION:Fountain Valley Recreation Center & Sports Park 16400 Brookhurst St. Fountain Valley
UID:e.2030.4157
SEQUENCE:3
DTSTAMP:20260424T172950Z
URL:http://business.fvchamber.com/events/details/fountain-valleys-market-in-the-park-certified-farmers-market-07-06-2017-4157
END:VEVENT

END:VCALENDAR
