BEGIN:VCALENDAR
VERSION:2.0
PRODID:-//ChamberMaster//Event Calendar 2.0//EN
METHOD:PUBLISH
X-PUBLISHED-TTL:P3D
REFRESH-INTERVAL:P3D
CALSCALE:GREGORIAN
BEGIN:VEVENT
DTSTART:20220125T200000Z
DTEND:20220125T220000Z
X-MICROSOFT-CDO-ALLDAYEVENT:FALSE
SUMMARY:Fountain Valley State of the City
DESCRIPTION:State of the City\n\nJoin the Fountain Valley of Commerce as we celebrate a New  Year with the City's Elected Officials and get an update on the City.
X-ALT-DESC;FMTTYPE=text/html:<span style="color:#0000CD\;"><span style="font-size:20px\;"><span style="font-family:verdana\;"><strong>State of the City<br />\nJoin the Fountain Valley of Commerce as we celebrate a New&nbsp\; Year with the City&#39\;s Elected Officials and get an update on the City.</strong></span></span></span>
LOCATION:Founders Village 17967 Bushard St. Fountain Valley\, CA 92708
UID:e.2030.5411
SEQUENCE:3
DTSTAMP:20260421T015105Z
URL:http://business.fvchamber.com/events/details/fountain-valley-state-of-the-city-5411
END:VEVENT

END:VCALENDAR
