BEGIN:VCALENDAR
VERSION:2.0
PRODID:-//ChamberMaster//Event Calendar 2.0//EN
METHOD:PUBLISH
X-PUBLISHED-TTL:P3D
REFRESH-INTERVAL:P3D
CALSCALE:GREGORIAN
BEGIN:VEVENT
DTSTART:20211017T000000Z
DTEND:20211017T040000Z
X-MICROSOFT-CDO-ALLDAYEVENT:FALSE
SUMMARY:Fountain Valley Sports Hall of Fame 2021
DESCRIPTION:Join the Fountain Valley Community Foundation in inducting these amazing athletes into Fountain Valley's Sports Hall of Fame.
X-ALT-DESC;FMTTYPE=text/html:<span style="font-size:22px\;"><span style="font-family:verdana\;"><strong>Join the Fountain Valley Community Foundation in inducting these amazing athletes into Fountain Valley&#39\;s Sports Hall of Fame.</strong></span></span>
LOCATION:The Center at Founders Village 17967 Bushard Street\, Fountain Valley CA 92708
UID:e.2030.5369
SEQUENCE:3
DTSTAMP:20260421T065817Z
URL:http://business.fvchamber.com/events/details/fountain-valley-sports-hall-of-fame-2021-5369
END:VEVENT

END:VCALENDAR
