BEGIN:VCALENDAR
VERSION:2.0
PRODID:-//ChamberMaster//Event Calendar 2.0//EN
METHOD:PUBLISH
X-PUBLISHED-TTL:P3D
REFRESH-INTERVAL:P3D
CALSCALE:GREGORIAN
BEGIN:VEVENT
DTSTART:20200310T230000Z
DTEND:20200311T020000Z
X-MICROSOFT-CDO-ALLDAYEVENT:FALSE
SUMMARY:Fountain Valley School District (District Art Show)
DESCRIPTION:Join us for\n\nA celebration of student art from our 10 schools\n\nPerformances by our Middle School Music Programs\n\nCookie Creation station & Interactive art stations\n\nFood trucks & Photo Booth\n\nJewelry Design Contest sponsored by Mimi's Jewelry\, Inc.
X-ALT-DESC;FMTTYPE=text/html:<p style="padding: 0px\; margin: 0px 0px 1em\; font-size: 16px\; font-family: &quot\;Open Sans&quot\;\, sans-serif\; text-align: center\; background-color: rgb(255\, 255\, 255)\;"><span style="font-size: 18pt\;"><em><strong>Join us for</strong></em></span></p>\n\n<div style="font-family: &quot\;Open Sans&quot\;\, sans-serif\; font-size: 16px\; text-align: center\; background-color: rgb(255\, 255\, 255)\;">A celebration of student art from our 10 schools<br />\nPerformances by our Middle School Music Programs<br />\nCookie Creation station &amp\; Interactive art stations<br />\nFood trucks &amp\; Photo Booth</div>\n\n<div style="font-family: &quot\;Open Sans&quot\;\, sans-serif\; font-size: 16px\; text-align: center\; background-color: rgb(255\, 255\, 255)\;">Jewelry Design Contest sponsored by&nbsp\;<a href="http://www.mimisjewelryinc.com/" rel="noopener noreferrer" style="color: rgb(51\, 51\, 51)\;" target="_blank">Mimi&#39\;s Jewelry\, Inc</a>.</div>\n
LOCATION:Fountain Valley School District 10055 Slater Ave. Fountain Valley\, CA 92708
UID:e.2030.5307
SEQUENCE:3
DTSTAMP:20260422T160636Z
URL:http://business.fvchamber.com/events/details/fountain-valley-school-district-district-art-show-5307
END:VEVENT

END:VCALENDAR
