BEGIN:VCALENDAR
VERSION:2.0
PRODID:-//ChamberMaster//Event Calendar 2.0//EN
METHOD:PUBLISH
X-PUBLISHED-TTL:P3D
REFRESH-INTERVAL:P3D
CALSCALE:GREGORIAN
BEGIN:VEVENT
DTSTART:20230422T010000Z
DTEND:20230422T040000Z
X-MICROSOFT-CDO-ALLDAYEVENT:FALSE
SUMMARY:Fountain Valley's Business & Leadership Awards 2023
DESCRIPTION:Please join us for a beautiful evening recognizing the top businesses and emerging leaders of Fountain Valley.\n\nTickets are limited\, so please call the office if we have any more available!
X-ALT-DESC;FMTTYPE=text/html:<span style="font-size:22px\;"><span style="color:#0000CD\;"><span style="font-family:tahoma\;"><strong>Please join us for a beautiful evening recognizing the top businesses and emerging leaders of Fountain Valley.</strong></span></span></span><br />\n<span style="color:#DAA520\;"><em><strong style="color: rgb(0\, 100\, 0)\; font-family: tahoma\; font-size: 24px\; background-color: rgb(255\, 255\, 255)\;">Tickets are limited\, so please call the office if we have any more available!</strong></em></span>
LOCATION:Founders Village 17967 Bushard St.\, Fountain Valley\, CA 92708
UID:e.2030.5907
SEQUENCE:3
DTSTAMP:20260420T002319Z
URL:http://business.fvchamber.com/events/details/fountain-valley-s-business-leadership-awards-2023-5907
END:VEVENT

END:VCALENDAR
