BEGIN:VCALENDAR
VERSION:2.0
PRODID:-//ChamberMaster//Event Calendar 2.0//EN
METHOD:PUBLISH
X-PUBLISHED-TTL:P3D
REFRESH-INTERVAL:P3D
CALSCALE:GREGORIAN
BEGIN:VEVENT
DTSTART:20220331T010000Z
DTEND:20220331T040000Z
X-MICROSOFT-CDO-ALLDAYEVENT:FALSE
SUMMARY:Fountain Valley's Business & Leadership Awards 2022
DESCRIPTION:Please join us for a beautiful evening recognizing the top businesses and emerging leaders of Fountain Valley.
X-ALT-DESC;FMTTYPE=text/html:<span style="font-size:22px\;"><span style="color:#0000CD\;"><span style="font-family:tahoma\;"><strong>Please join us for a beautiful evening recognizing the top businesses and emerging leaders of Fountain Valley.</strong></span></span></span>
LOCATION:Founders Village 17967 Bushard St.\, Fountain Valley\, CA 92708
UID:e.2030.5575
SEQUENCE:3
DTSTAMP:20260420T235442Z
URL:http://business.fvchamber.com/events/details/fountain-valley-s-business-leadership-awards-2022-5575
END:VEVENT

END:VCALENDAR
