BEGIN:VCALENDAR
VERSION:2.0
PRODID:-//ChamberMaster//Event Calendar 2.0//EN
METHOD:PUBLISH
X-PUBLISHED-TTL:P3D
REFRESH-INTERVAL:P3D
CALSCALE:GREGORIAN
BEGIN:VEVENT
DTSTART:20210130T170000Z
DTEND:20210130T200000Z
X-MICROSOFT-CDO-ALLDAYEVENT:FALSE
SUMMARY:Fountain Valley Rotary Club Community (Food Distribtution)
DESCRIPTION:Join the Fountain Valley Rotary Club as we give back to the community. The Fountain Valley Rotary Club will be hosting a drive-thru Food Distribution to help families in need. We look forward to seeing you there!
X-ALT-DESC;FMTTYPE=text/html:<strong><span style="color:#000080\;"><span style="font-family:verdana\;"><span style="font-size:18px\;">Join the Fountain Valley Rotary Club as we give back to the community. The Fountain Valley Rotary Club will be hosting a drive-thru Food Distribution to help families in need. We look forward to seeing you there!</span></span></span></strong>
LOCATION:Fountain Bowl 17110 Brookhurst St. Fountain Valley\, CA 92708
UID:e.2030.5336
SEQUENCE:3
DTSTAMP:20260421T230733Z
URL:http://business.fvchamber.com/events/details/fountain-valley-rotary-club-community-food-distribtution-5336
END:VEVENT

END:VCALENDAR
