BEGIN:VCALENDAR
VERSION:2.0
PRODID:-//ChamberMaster//Event Calendar 2.0//EN
METHOD:PUBLISH
X-PUBLISHED-TTL:P3D
REFRESH-INTERVAL:P3D
CALSCALE:GREGORIAN
BEGIN:VEVENT
DTSTART:20180429T000000Z
DTEND:20180429T030000Z
X-MICROSOFT-CDO-ALLDAYEVENT:FALSE
SUMMARY:Fountain Valley Rotary Bowl A Strike for Students
DESCRIPTION:Fountain Valley Rotary's\n\nBowl A Strike for Students
X-ALT-DESC;FMTTYPE=text/html:<span style="font-size:16px\;"><em><strong>Fountain Valley Rotary&#39\;s</strong></em></span><br />\n<span style="font-size:18px\;"><strong>Bowl A Strike for Students</strong></span>
LOCATION:Fountain Bowl 17110 Brookhurst St. Fountain Valley
UID:e.2030.4663
SEQUENCE:3
DTSTAMP:20260424T034306Z
URL:http://business.fvchamber.com/events/details/fountain-valley-rotary-bowl-a-strike-for-students-4663
END:VEVENT

END:VCALENDAR
