BEGIN:VCALENDAR
VERSION:2.0
PRODID:-//ChamberMaster//Event Calendar 2.0//EN
METHOD:PUBLISH
X-PUBLISHED-TTL:P3D
REFRESH-INTERVAL:P3D
CALSCALE:GREGORIAN
BEGIN:VEVENT
DTSTART:20160422T170000Z
DTEND:20160422T210000Z
X-MICROSOFT-CDO-ALLDAYEVENT:FALSE
SUMMARY:Fountain Valley Regional Hospital's Shred it OUT!
DESCRIPTION:Fountain Valley Regional Hospital's\n\nShred it OUT!\n\nFREE Paper Shredding Event
X-ALT-DESC;FMTTYPE=text/html:Fountain Valley Regional Hospital&#39\;s<br />\nShred it OUT!<br />\nFREE Paper Shredding Event
LOCATION:
UID:e.2030.2807
SEQUENCE:3
DTSTAMP:20260425T160459Z
URL:http://business.fvchamber.com/events/details/fountain-valley-regional-hospital-s-shred-it-out-04-22-2016-2807
END:VEVENT

END:VCALENDAR
