BEGIN:VCALENDAR
VERSION:2.0
PRODID:-//ChamberMaster//Event Calendar 2.0//EN
METHOD:PUBLISH
X-PUBLISHED-TTL:P3D
REFRESH-INTERVAL:P3D
CALSCALE:GREGORIAN
BEGIN:VEVENT
DTSTART:20160305T013000Z
DTEND:20160305T040000Z
X-MICROSOFT-CDO-ALLDAYEVENT:FALSE
SUMMARY:Fountain Valley High School 50th Anniversary Celebration
DESCRIPTION:Fountain Valley High School's\n\n50th Anniversary Celebration
X-ALT-DESC;FMTTYPE=text/html:<span style="font-size:16px\;"><strong>Fountain Valley High School&#39\;s<br />\n<em><span style="font-size:18px\;">50th Anniversary Celebration</span></em></strong></span>
LOCATION:Fountain Valley High School 17816 Bushard Street Fountain Valley
UID:e.2030.2800
SEQUENCE:3
DTSTAMP:20260425T185820Z
URL:http://business.fvchamber.com/events/details/fountain-valley-high-school-50th-anniversary-celebration-03-04-2016-2800
END:VEVENT

END:VCALENDAR
