BEGIN:VCALENDAR
VERSION:2.0
PRODID:-//ChamberMaster//Event Calendar 2.0//EN
METHOD:PUBLISH
X-PUBLISHED-TTL:P3D
REFRESH-INTERVAL:P3D
CALSCALE:GREGORIAN
BEGIN:VEVENT
DTSTART:20190117T010000Z
DTEND:20190117T033000Z
X-MICROSOFT-CDO-ALLDAYEVENT:FALSE
SUMMARY:Fountain Valley Grocery Outlet Preview Night
DESCRIPTION:Fountain Valley's ALL NEW\n\nGrocery Outlet Bargain Market\n\nPreview Night\n\nA Chance to meet the Owner-Operators:\n\nMichael & Stephanie Hohertz
X-ALT-DESC;FMTTYPE=text/html:<span style="font-size:20px\;"><span style="font-size:18px\;"><strong>Fountain Valley&#39\;s ALL NEW<br />\n<span style="font-family:verdana\;"><span style="color:#800000\;">Grocery Outlet Bargain Market</span></span></strong></span><br />\n<strong>Preview Night<br />\n<span style="font-family:comic sans ms\;"><span style="font-size:16px\;"><span style="font-size:14px\;"><em><u>A Chance to meet the Owner-Operators</u>:<br />\nMichael &amp\; Stephanie Hohertz</em></span></span></span></strong></span>
LOCATION:18920 Brookhurst Street Fountain Valley
UID:e.2030.5094
SEQUENCE:3
DTSTAMP:20260423T132714Z
URL:http://business.fvchamber.com/events/details/fountain-valley-grocery-outlet-preview-night-5094
END:VEVENT

END:VCALENDAR
