BEGIN:VCALENDAR
VERSION:2.0
PRODID:-//ChamberMaster//Event Calendar 2.0//EN
METHOD:PUBLISH
X-PUBLISHED-TTL:P3D
REFRESH-INTERVAL:P3D
CALSCALE:GREGORIAN
BEGIN:VEVENT
DTSTART:20180928T013000Z
DTEND:20180928T023000Z
X-MICROSOFT-CDO-ALLDAYEVENT:FALSE
SUMMARY:Fountain Valley Elementary School District Candidates Forum
DESCRIPTION:Fountain Valley Elementary School District Candidates Forum
X-ALT-DESC;FMTTYPE=text/html:Fountain Valley Elementary School District Candidates Forum
LOCATION:Fountain Valley School District 10055 Slater Ave. Fountain Valley
UID:e.2030.4942
SEQUENCE:3
DTSTAMP:20260423T203607Z
URL:http://business.fvchamber.com/events/details/fountain-valley-elementary-school-district-candidates-forum-4942
END:VEVENT

END:VCALENDAR
