BEGIN:VCALENDAR
VERSION:2.0
PRODID:-//ChamberMaster//Event Calendar 2.0//EN
METHOD:PUBLISH
X-PUBLISHED-TTL:P3D
REFRESH-INTERVAL:P3D
CALSCALE:GREGORIAN
BEGIN:VEVENT
DTSTART:20181021T010000Z
DTEND:20181021T050000Z
X-MICROSOFT-CDO-ALLDAYEVENT:FALSE
SUMMARY:Fountain Valley Community Foundation Poker Tournament
DESCRIPTION:Fountain Valley Community Foundation's\n\nPoker Tournament
X-ALT-DESC;FMTTYPE=text/html:<span style="font-size:14px\;"><em><strong>Fountain Valley Community Foundation&#39\;s</strong></em></span><br />\n<span style="font-size:18px\;"><strong>Poker Tournament</strong></span>
LOCATION:The Center at Founders Village 17967 Bushard St. Fountain Valley
UID:e.2030.4665
SEQUENCE:3
DTSTAMP:20260423T180130Z
URL:http://business.fvchamber.com/events/details/fountain-valley-community-foundation-poker-tournament-4665
END:VEVENT

END:VCALENDAR
