BEGIN:VCALENDAR
VERSION:2.0
PRODID:-//ChamberMaster//Event Calendar 2.0//EN
METHOD:PUBLISH
X-PUBLISHED-TTL:P3D
REFRESH-INTERVAL:P3D
CALSCALE:GREGORIAN
BEGIN:VEVENT
DTSTART:20180304T020000Z
DTEND:20180304T060000Z
X-MICROSOFT-CDO-ALLDAYEVENT:FALSE
SUMMARY:Fountain Valley Community Foundation Poker Tournament
DESCRIPTION:Fountain Valley Community Foundation\n\nPoker Tournament
X-ALT-DESC;FMTTYPE=text/html:<span style="font-size:16px\;"><strong>Fountain Valley Community Foundation</strong></span><br />\n<span style="font-size:20px\;"><strong>Poker Tournament</strong></span>
LOCATION:
UID:e.2030.4243
SEQUENCE:3
DTSTAMP:20260424T034943Z
URL:http://business.fvchamber.com/events/details/fountain-valley-community-foundation-poker-tournament-4243
END:VEVENT

END:VCALENDAR
