BEGIN:VCALENDAR
VERSION:2.0
PRODID:-//ChamberMaster//Event Calendar 2.0//EN
METHOD:PUBLISH
X-PUBLISHED-TTL:P3D
REFRESH-INTERVAL:P3D
CALSCALE:GREGORIAN
BEGIN:VEVENT
DTSTART:20191208T003000Z
DTEND:20191208T040000Z
X-MICROSOFT-CDO-ALLDAYEVENT:FALSE
SUMMARY:Fountain Valley Christmas Tree Lighting Ceremony
DESCRIPTION:Join the Fountain Valley Chamber of Commerce & The City of Fountain Valley as start the Holiday Season off with BANG! With our annual Tree Lighting Ceremony!
X-ALT-DESC;FMTTYPE=text/html:<strong><span style="color:#FF0000\;"><span style="font-family:verdana\;"><span style="font-size:16px\;">Join the Fountain Valley Chamber of Commerce &amp\; The City of Fountain Valley as start the Holiday Season off with BANG! With our annual Tree Lighting Ceremony!</span></span></span></strong>
LOCATION:Fountain Valley Recreation Center 16400 Brookhurst St. Fountain Valley\, CA 92708
UID:e.2030.5280
SEQUENCE:3
DTSTAMP:20260422T204450Z
URL:http://business.fvchamber.com/events/details/fountain-valley-christmas-tree-lighting-ceremony-5280
END:VEVENT

END:VCALENDAR
