BEGIN:VCALENDAR
VERSION:2.0
PRODID:-//ChamberMaster//Event Calendar 2.0//EN
METHOD:PUBLISH
X-PUBLISHED-TTL:P3D
REFRESH-INTERVAL:P3D
CALSCALE:GREGORIAN
BEGIN:VEVENT
DTSTART:20151022T003000Z
DTEND:20151022T023000Z
X-MICROSOFT-CDO-ALLDAYEVENT:FALSE
SUMMARY:Fountain Bowl Mixer
DESCRIPTION:Fountain Bowl Mixer
X-ALT-DESC;FMTTYPE=text/html:<span style="font-size:18px\;"><span style="font-family: verdana\;"><strong>Fountain Bowl Mixer</strong></span></span>
LOCATION:17110 Brookhurst Street Fountain Valley
UID:e.2030.2163
SEQUENCE:3
DTSTAMP:20260426T011722Z
URL:http://business.fvchamber.com/events/details/fountain-bowl-mixer-10-21-2015-2163
END:VEVENT

END:VCALENDAR
