BEGIN:VCALENDAR
VERSION:2.0
PRODID:-//ChamberMaster//Event Calendar 2.0//EN
METHOD:PUBLISH
X-PUBLISHED-TTL:P3D
REFRESH-INTERVAL:P3D
CALSCALE:GREGORIAN
BEGIN:VEVENT
DTSTART:20210730T170000Z
DTEND:20210730T190000Z
X-MICROSOFT-CDO-ALLDAYEVENT:FALSE
SUMMARY:Fountain Bowl Grand Opening Ribbon Cutting
DESCRIPTION:Come join us for the Grand Opening of Fountain Bowl
X-ALT-DESC;FMTTYPE=text/html:<span style="color:#0000FF\;"><span style="font-size:26px\;"><span style="font-family:verdana\;"><strong>Come join us for the Grand Opening of Fountain Bowl</strong></span></span></span>
LOCATION:Fountain Bowl 17110 Brookhurst Street Fountain Valley\, CA 92708
UID:e.2030.5363
SEQUENCE:3
DTSTAMP:20260421T135810Z
URL:http://business.fvchamber.com/events/details/fountain-bowl-grand-opening-ribbon-cutting-5363
END:VEVENT

END:VCALENDAR
