BEGIN:VCALENDAR
VERSION:2.0
PRODID:-//ChamberMaster//Event Calendar 2.0//EN
METHOD:PUBLISH
X-PUBLISHED-TTL:P3D
REFRESH-INTERVAL:P3D
CALSCALE:GREGORIAN
BEGIN:VEVENT
DTSTART:20220628T170000Z
DTEND:20220628T180000Z
X-MICROSOFT-CDO-ALLDAYEVENT:FALSE
SUMMARY:Foundational Communcation Tips + Finding Your Business Voice
DESCRIPTION:Communication is key to success in life\, relationships\, and yes\, business. However\, many businesses and their employees lose out on deals\, contracts\, and other vital components to growing their business because of their lack of understanding of how communication should work in the business world. With this webinar\, you will learn key foundational communication skills\, tips\, and how to find your business voice!
X-ALT-DESC;FMTTYPE=text/html:<span style="color: rgb(43\, 55\, 77)\; font-family: ModernSans\, Arial\, Helvetica\, sans-serif\; font-size: 16px\; background-color: rgb(255\, 255\, 255)\;">Communication is key to success in life\, relationships\, and yes\, business. However\, many businesses and their employees lose out on deals\, contracts\, and other vital components to growing their business because of their lack of understanding of how communication should work in the business world. With this webinar\, you will learn key foundational communication skills\, tips\, and how to find your business voice!</span>
LOCATION:Zoom
UID:e.2030.5585
SEQUENCE:3
DTSTAMP:20260420T171424Z
URL:http://business.fvchamber.com/events/details/foundational-communcation-tips-finding-your-business-voice-5585
END:VEVENT

END:VCALENDAR
