BEGIN:VCALENDAR
VERSION:2.0
PRODID:-//ChamberMaster//Event Calendar 2.0//EN
METHOD:PUBLISH
X-PUBLISHED-TTL:P3D
REFRESH-INTERVAL:P3D
CALSCALE:GREGORIAN
BEGIN:VEVENT
DTSTART:20170209T000000Z
DTEND:20170209T020000Z
X-MICROSOFT-CDO-ALLDAYEVENT:FALSE
SUMMARY:Floor & Decor Grand Opening / Ribbon Cutting
DESCRIPTION:Floor & Decor\n\nGrand Opening / Ribbon Cutting
X-ALT-DESC;FMTTYPE=text/html:<span style="font-size:16px\;"><strong>Floor &amp\; Decor</strong></span><br />\n<em><span style="font-size:14px\;"><strong>Grand Opening / Ribbon Cutting</strong></span></em>
LOCATION:9065 Warner Avenue Fountain Valley\, CA 92708
UID:e.2030.3862
SEQUENCE:3
DTSTAMP:20260425T005646Z
URL:http://business.fvchamber.com/events/details/floor-decor-grand-opening-ribbon-cutting-3862
END:VEVENT

END:VCALENDAR
