BEGIN:VCALENDAR
VERSION:2.0
PRODID:-//ChamberMaster//Event Calendar 2.0//EN
METHOD:PUBLISH
X-PUBLISHED-TTL:P3D
REFRESH-INTERVAL:P3D
CALSCALE:GREGORIAN
BEGIN:VEVENT
DTSTART:20160408T003000Z
DTEND:20160408T023000Z
X-MICROSOFT-CDO-ALLDAYEVENT:FALSE
SUMMARY:Fit Body Boot Camp FV Mixer
DESCRIPTION:Fit Body Boot Camp FV Mixer
X-ALT-DESC;FMTTYPE=text/html:<span style="font-size:16px\;"><strong>Fit Body Boot Camp FV Mixer</strong></span>
LOCATION:16560 S. Harbor Blvd.\, Ste. C&D Fountain Valley
UID:e.2030.2315
SEQUENCE:3
DTSTAMP:20260425T160413Z
URL:http://business.fvchamber.com/events/details/fit-body-boot-camp-fv-mixer-04-07-2016-2315
END:VEVENT

END:VCALENDAR
