BEGIN:VCALENDAR
VERSION:2.0
PRODID:-//ChamberMaster//Event Calendar 2.0//EN
METHOD:PUBLISH
X-PUBLISHED-TTL:P3D
REFRESH-INTERVAL:P3D
CALSCALE:GREGORIAN
BEGIN:VEVENT
DTSTART:20170204T160000Z
DTEND:20170204T180000Z
X-MICROSOFT-CDO-ALLDAYEVENT:FALSE
SUMMARY:Fit Body Boot Camp 5K Run Run/Walk
DESCRIPTION:Fit Body Boot Camp\n\n5K Fun Run / Walk
X-ALT-DESC;FMTTYPE=text/html:<span style="font-size:16px\;"><strong>Fit Body Boot Camp</strong></span><br />\n<span style="font-size:18px\;"><strong>5K Fun Run / Walk</strong></span>
LOCATION:Fountain Valley Recreation Center & Sports Park 16400 Brookhurst Street (at Heil) Fountain Valley\, CA 92708
UID:e.2030.3859
SEQUENCE:3
DTSTAMP:20260425T004830Z
URL:http://business.fvchamber.com/events/details/fit-body-boot-camp-5k-run-run-walk-3859
END:VEVENT

END:VCALENDAR
