BEGIN:VCALENDAR
VERSION:2.0
PRODID:-//ChamberMaster//Event Calendar 2.0//EN
METHOD:PUBLISH
X-PUBLISHED-TTL:P3D
REFRESH-INTERVAL:P3D
CALSCALE:GREGORIAN
BEGIN:VEVENT
DTSTART:20220503T210000Z
DTEND:20220503T230000Z
X-MICROSOFT-CDO-ALLDAYEVENT:FALSE
SUMMARY:Financial Fitness Bootcamp: 4-day Small Business Training
DESCRIPTION:Class One   May 3\n\n\n	An overview of financial management for small business   why is it important?\n	The 7 Financial Terms Every Entrepreneur Should Know\n\n\nClass Two   May 10\n\n\n	Pricing your products and services correctly   are you accounting for all your costs correctly?\n	The importance of cash flow and diagnosing and curing cash flow issues\n	Preparing and understanding your key financial reports   what they can tell you about your business\n	The process of developing financial projections and identifying and understanding your key assumptions\n	Understanding and using key financial ratios\n\n\nClass Three   May 17\n\n\n	The fundamentals of managing your small business finances\n	Understanding your business model and optimizing it for financial success\n	Maintaining proper records to keep your business running smoothly\n	Implementing a financial tracking and accounting system\n\n\nClass Four   May 24 \n\n\n	Understanding the fundamentals of business credit\n	Understanding how lenders view your company from a financial perspective\n	Preparing your company for debt capital   what do you need to do and what information do you need to provide to a potential lender
X-ALT-DESC;FMTTYPE=text/html:<p style="box-sizing: border-box\; overflow-wrap: break-word\; margin: 0px 0px 20px\; color: rgb(97\, 97\, 97)\; font-size: 14px\; line-height: 1.8\; font-family: Roboto\, sans-serif\; background-color: rgb(255\, 255\, 255)\;"><span style="font-family:tahoma\;"><span style="box-sizing: border-box\; font-weight: bolder\;">Class One &ndash\; May 3</span></span></p>\n\n<ol style="box-sizing: border-box\; overflow-wrap: break-word\; margin-top: 0px\; margin-bottom: 0px\; border: 0px\; outline: 0px\; font-size: 16px\; vertical-align: baseline\; background: rgb(255\, 255\, 255)\; color: rgb(98\, 98\, 98)\; font-family: Montserrat\, -apple-system\, BlinkMacSystemFont\, &quot\;Segoe UI&quot\;\, Roboto\, sans-serif\;">\n	<li style="box-sizing: border-box\; margin-top: 0px\; margin-bottom: 0px\; border: 0px\; outline: 0px\; vertical-align: baseline\; background: transparent\;"><span style="font-family:tahoma\;">An overview of financial management for small business &ndash\; why is it important?</span></li>\n	<li style="box-sizing: border-box\; margin-top: 0px\; margin-bottom: 0px\; border: 0px\; outline: 0px\; vertical-align: baseline\; background: transparent\;"><span style="font-family:tahoma\;">The 7 Financial Terms Every Entrepreneur Should Know</span></li>\n</ol>\n\n<p style="box-sizing: border-box\; overflow-wrap: break-word\; margin: 0px 0px 20px\; color: rgb(97\, 97\, 97)\; font-size: 14px\; line-height: 1.8\; font-family: Roboto\, sans-serif\; background-color: rgb(255\, 255\, 255)\;"><span style="font-family:tahoma\;"><span style="box-sizing: border-box\; font-weight: bolder\;">Class Two &ndash\; May 10</span></span></p>\n\n<ol style="box-sizing: border-box\; overflow-wrap: break-word\; margin-top: 0px\; margin-bottom: 0px\; border: 0px\; outline: 0px\; font-size: 16px\; vertical-align: baseline\; background: rgb(255\, 255\, 255)\; color: rgb(98\, 98\, 98)\; font-family: Montserrat\, -apple-system\, BlinkMacSystemFont\, &quot\;Segoe UI&quot\;\, Roboto\, sans-serif\;">\n	<li style="box-sizing: border-box\; margin-top: 0px\; margin-bottom: 0px\; border: 0px\; outline: 0px\; vertical-align: baseline\; background: transparent\;"><span style="font-family:tahoma\;">Pricing your products and services correctly &ndash\; are you accounting for all your costs correctly?</span></li>\n	<li style="box-sizing: border-box\; margin-top: 0px\; margin-bottom: 0px\; border: 0px\; outline: 0px\; vertical-align: baseline\; background: transparent\;"><span style="font-family:tahoma\;">The importance of cash flow and diagnosing and curing cash flow issues</span></li>\n	<li style="box-sizing: border-box\; margin-top: 0px\; margin-bottom: 0px\; border: 0px\; outline: 0px\; vertical-align: baseline\; background: transparent\;"><span style="font-family:tahoma\;">Preparing and understanding your key financial reports &ndash\; what they can tell you about your business</span></li>\n	<li style="box-sizing: border-box\; margin-top: 0px\; margin-bottom: 0px\; border: 0px\; outline: 0px\; vertical-align: baseline\; background: transparent\;"><span style="font-family:tahoma\;">The process of developing financial projections and identifying and understanding your key assumptions</span></li>\n	<li style="box-sizing: border-box\; margin-top: 0px\; margin-bottom: 0px\; border: 0px\; outline: 0px\; vertical-align: baseline\; background: transparent\;"><span style="font-family:tahoma\;">Understanding and using key financial ratios</span></li>\n</ol>\n\n<p style="box-sizing: border-box\; overflow-wrap: break-word\; margin: 0px 0px 20px\; color: rgb(97\, 97\, 97)\; font-size: 14px\; line-height: 1.8\; font-family: Roboto\, sans-serif\; background-color: rgb(255\, 255\, 255)\;"><span style="font-family:tahoma\;"><span style="box-sizing: border-box\; font-weight: bolder\;">Class Three &ndash\; May 17</span></span></p>\n\n<ol style="box-sizing: border-box\; overflow-wrap: break-word\; margin-top: 0px\; margin-bottom: 0px\; border: 0px\; outline: 0px\; font-size: 16px\; vertical-align: baseline\; background: rgb(255\, 255\, 255)\; color: rgb(98\, 98\, 98)\; font-family: Montserrat\, -apple-system\, BlinkMacSystemFont\, &quot\;Segoe UI&quot\;\, Roboto\, sans-serif\;">\n	<li style="box-sizing: border-box\; margin-top: 0px\; margin-bottom: 0px\; border: 0px\; outline: 0px\; vertical-align: baseline\; background: transparent\;"><span style="font-family:tahoma\;">The fundamentals of managing your small business finances</span></li>\n	<li style="box-sizing: border-box\; margin-top: 0px\; margin-bottom: 0px\; border: 0px\; outline: 0px\; vertical-align: baseline\; background: transparent\;"><span style="font-family:tahoma\;">Understanding your business model and optimizing it for financial success</span></li>\n	<li style="box-sizing: border-box\; margin-top: 0px\; margin-bottom: 0px\; border: 0px\; outline: 0px\; vertical-align: baseline\; background: transparent\;"><span style="font-family:tahoma\;">Maintaining proper records to keep your business running smoothly</span></li>\n	<li style="box-sizing: border-box\; margin-top: 0px\; margin-bottom: 0px\; border: 0px\; outline: 0px\; vertical-align: baseline\; background: transparent\;"><span style="font-family:tahoma\;">Implementing a financial tracking and accounting system</span></li>\n</ol>\n\n<p style="box-sizing: border-box\; overflow-wrap: break-word\; margin: 0px 0px 20px\; color: rgb(97\, 97\, 97)\; font-size: 14px\; line-height: 1.8\; font-family: Roboto\, sans-serif\; background-color: rgb(255\, 255\, 255)\;"><span style="font-family:tahoma\;"><span style="box-sizing: border-box\; font-weight: bolder\;">Class Four &ndash\; May 24&nbsp\;</span></span></p>\n\n<ol style="box-sizing: border-box\; overflow-wrap: break-word\; margin-top: 0px\; margin-bottom: 0px\; border: 0px\; outline: 0px\; font-size: 16px\; vertical-align: baseline\; background: rgb(255\, 255\, 255)\; color: rgb(98\, 98\, 98)\; font-family: Montserrat\, -apple-system\, BlinkMacSystemFont\, &quot\;Segoe UI&quot\;\, Roboto\, sans-serif\;">\n	<li style="box-sizing: border-box\; margin-top: 0px\; margin-bottom: 0px\; border: 0px\; outline: 0px\; vertical-align: baseline\; background: transparent\;"><span style="font-family:tahoma\;">Understanding the fundamentals of business credit</span></li>\n	<li style="box-sizing: border-box\; margin-top: 0px\; margin-bottom: 0px\; border: 0px\; outline: 0px\; vertical-align: baseline\; background: transparent\;"><span style="font-family:tahoma\;">Understanding how lenders view your company from a financial perspective</span></li>\n	<li style="box-sizing: border-box\; margin-top: 0px\; margin-bottom: 0px\; border: 0px\; outline: 0px\; vertical-align: baseline\; background: transparent\;"><span style="font-family:tahoma\;">Preparing your company for debt capital &ndash\; what do you need to do and what information do you need to provide to a potential lender</span></li>\n</ol>\n
LOCATION:Zoom
UID:e.2030.5586
SEQUENCE:3
DTSTAMP:20260420T185742Z
URL:http://business.fvchamber.com/events/details/financial-fitness-bootcamp-4-day-small-business-training-5586
END:VEVENT

END:VCALENDAR
