BEGIN:VCALENDAR
VERSION:2.0
PRODID:-//ChamberMaster//Event Calendar 2.0//EN
METHOD:PUBLISH
X-PUBLISHED-TTL:P3D
REFRESH-INTERVAL:P3D
CALSCALE:GREGORIAN
BEGIN:VEVENT
DTSTART:20211118T003000Z
DTEND:20211118T013000Z
X-MICROSOFT-CDO-ALLDAYEVENT:FALSE
SUMMARY:Family Financial Management Ribbon Cutting
DESCRIPTION:Come join us for the ribbon cutting of Family Financial Management
X-ALT-DESC;FMTTYPE=text/html:<span style="color:#B22222\;"><span style="font-size:22px\;"><span style="font-family:verdana\;"><strong>Come join us for the ribbon cutting of Family Financial Management</strong></span></span></span>
LOCATION:10231 Slater Ave. Suite 208 Fountain Valley\, CA 92708
UID:e.2030.5405
SEQUENCE:3
DTSTAMP:20260421T051221Z
URL:http://business.fvchamber.com/events/details/family-financial-management-ribbon-cutting-5405
END:VEVENT

END:VCALENDAR
