BEGIN:VCALENDAR
VERSION:2.0
PRODID:-//ChamberMaster//Event Calendar 2.0//EN
METHOD:PUBLISH
X-PUBLISHED-TTL:P3D
REFRESH-INTERVAL:P3D
CALSCALE:GREGORIAN
BEGIN:VEVENT
DTSTART;VALUE=DATE:20150829
DTEND;VALUE=DATE:20150830
TRANSP:TRANSPARENT
X-MICROSOFT-CDO-ALLDAYEVENT:TRUE
SUMMARY:Family Care Centers Ribbon Cutting
DESCRIPTION:Greater Newport Physicians Presents:\n\nGrand Opening and Ribbon Cutting of the tenants in the Niagara Health Center\n\nFeaturing our new member Family Care Centers
X-ALT-DESC;FMTTYPE=text/html:<span style="font-size:12px\;"><span style="font-family: verdana\;"><strong>Greater Newport Physicians Presents:<br />\n<span style="font-size:14px\;">Grand Opening and Ribbon Cutting of the tenants in the Niagara Health Center</span><br />\n<span style="font-size:16px\;"><em>Featuring our new member Family Care Centers</em></span></strong></span></span>
LOCATION:Niagara Health Center 18785 Brookhurst Street Fountain Valley
UID:e.2030.2165
SEQUENCE:3
DTSTAMP:20260426T041942Z
URL:http://business.fvchamber.com/events/details/family-care-centers-ribbon-cutting-08-29-2015-2165
END:VEVENT

END:VCALENDAR
