BEGIN:VCALENDAR
VERSION:2.0
PRODID:-//ChamberMaster//Event Calendar 2.0//EN
METHOD:PUBLISH
X-PUBLISHED-TTL:P3D
REFRESH-INTERVAL:P3D
CALSCALE:GREGORIAN
BEGIN:VEVENT
DTSTART:20181010T160000Z
DTEND:20181010T170000Z
X-MICROSOFT-CDO-ALLDAYEVENT:FALSE
SUMMARY:Fall Festival Committee Meeting
DESCRIPTION:Fall Festival Committee Meeting
X-ALT-DESC;FMTTYPE=text/html:<strong><span style="font-size:16px\;">Fall Festival Committee Meeting</span></strong>
LOCATION:Fountain Valley Chamber of Commerce 10055 Slater Ave\, #250 Fountain Valley
UID:e.2030.4949
SEQUENCE:3
DTSTAMP:20260423T191527Z
URL:http://business.fvchamber.com/events/details/fall-festival-committee-meeting-4949
END:VEVENT

END:VCALENDAR
