BEGIN:VCALENDAR
VERSION:2.0
PRODID:-//ChamberMaster//Event Calendar 2.0//EN
METHOD:PUBLISH
X-PUBLISHED-TTL:P3D
REFRESH-INTERVAL:P3D
CALSCALE:GREGORIAN
BEGIN:VEVENT
DTSTART:20180912T160000Z
DTEND:20180912T173000Z
X-MICROSOFT-CDO-ALLDAYEVENT:FALSE
SUMMARY:Fall Festival Committee Meeting
DESCRIPTION:Fall Festival Committee Meeting
X-ALT-DESC;FMTTYPE=text/html:<span style="font-size:16px\;"><strong>Fall Festival Committee Meeting</strong></span>
LOCATION:Fountain Valley Chamber of Commerce 10055 Slater Ave.\, #250 Fountain Valley
UID:e.2030.4943
SEQUENCE:3
DTSTAMP:20260423T191445Z
URL:http://business.fvchamber.com/events/details/fall-festival-committee-meeting-4943
END:VEVENT

END:VCALENDAR
