BEGIN:VCALENDAR
VERSION:2.0
PRODID:-//ChamberMaster//Event Calendar 2.0//EN
METHOD:PUBLISH
X-PUBLISHED-TTL:P3D
REFRESH-INTERVAL:P3D
CALSCALE:GREGORIAN
BEGIN:VEVENT
DTSTART:20180509T160000Z
DTEND:20180509T170000Z
X-MICROSOFT-CDO-ALLDAYEVENT:FALSE
SUMMARY:Fall Festival Committee Meeting
DESCRIPTION:Fall Festival Committee Meeting
X-ALT-DESC;FMTTYPE=text/html:Fall Festival Committee Meeting
LOCATION:Fountain Valley Chamber Office 10055 Slater Ave.\, #150 Fountain Valley
UID:e.2030.4800
SEQUENCE:3
DTSTAMP:20260424T022144Z
URL:http://business.fvchamber.com/events/details/fall-festival-committee-meeting-4800
END:VEVENT

END:VCALENDAR
