BEGIN:VCALENDAR
VERSION:2.0
PRODID:-//ChamberMaster//Event Calendar 2.0//EN
METHOD:PUBLISH
X-PUBLISHED-TTL:P3D
REFRESH-INTERVAL:P3D
CALSCALE:GREGORIAN
BEGIN:VEVENT
DTSTART:20181020T180000Z
DTEND:20181021T000000Z
X-MICROSOFT-CDO-ALLDAYEVENT:FALSE
SUMMARY:Fall Festival
DESCRIPTION:Fountain Valley Chamber Presents the\n\n1st Annual\n\nFall Festival\n\n& Chili Cookoff
X-ALT-DESC;FMTTYPE=text/html:<em>Fountain Valley Chamber Presents the</em><br />\n<strong><span style="font-size:14px\;">1st Annual</span><br />\n<span style="font-size:18px\;">Fall Festival</span><br />\n&amp\; Chili Cookoff</strong>
LOCATION:Fountain Valley Recreation Center & Sports Park 16400 Brookhurst Street Fountain Valley
UID:e.2030.4659
SEQUENCE:3
DTSTAMP:20260423T174938Z
URL:http://business.fvchamber.com/events/details/fall-festival-4659
END:VEVENT

END:VCALENDAR
