BEGIN:VCALENDAR
VERSION:2.0
PRODID:-//ChamberMaster//Event Calendar 2.0//EN
METHOD:PUBLISH
X-PUBLISHED-TTL:P3D
REFRESH-INTERVAL:P3D
CALSCALE:GREGORIAN
BEGIN:VEVENT
DTSTART:20170223T010000Z
DTEND:20170223T030000Z
X-MICROSOFT-CDO-ALLDAYEVENT:FALSE
SUMMARY:Experimac Grand Opening / Ribbon Cutting
DESCRIPTION:Experimac\n\nGrand Opening / Ribbon Cutting
X-ALT-DESC;FMTTYPE=text/html:<span style="font-size:16px\;"><strong>Experimac</strong></span><br />\n<span style="font-size:14px\;"><em><strong>Grand Opening / Ribbon Cutting</strong></em></span>
LOCATION:18597 Brookhurst Street Fountain Valley
UID:e.2030.3864
SEQUENCE:3
DTSTAMP:20260425T021729Z
URL:http://business.fvchamber.com/events/details/experimac-grand-opening-ribbon-cutting-3864
END:VEVENT

END:VCALENDAR
