BEGIN:VCALENDAR
VERSION:2.0
PRODID:-//ChamberMaster//Event Calendar 2.0//EN
METHOD:PUBLISH
X-PUBLISHED-TTL:P3D
REFRESH-INTERVAL:P3D
CALSCALE:GREGORIAN
BEGIN:VEVENT
DTSTART:20181004T230000Z
DTEND:20181005T013000Z
X-MICROSOFT-CDO-ALLDAYEVENT:FALSE
SUMMARY:Experience Fountain Valley
DESCRIPTION:Experience Fountain Valley\n\nCity Hall Tour - 4pm - 5pm\n\nChamber Awareness Month Kickoff & new member discount - 4pm - 6:30pm\n\nFountain Valley Restaurant Association Tastings - 4pm - 6:30pm\n\nWine & Sangria Samplings - 5pm - 6:30pm
X-ALT-DESC;FMTTYPE=text/html:<span style="font-size:18px\;"><strong>Experience Fountain Valley</strong></span><br />\nCity Hall Tour - 4pm - 5pm<br />\nChamber Awareness Month Kickoff &amp\; new member discount - 4pm - 6:30pm<br />\nFountain Valley Restaurant Association Tastings - 4pm - 6:30pm<br />\nWine &amp\; Sangria Samplings - 5pm - 6:30pm
LOCATION:Fountain Valley City Hall (Courtyard behind City Hall building) 10200 Slater Ave. Fountain Valley
UID:e.2030.4948
SEQUENCE:3
DTSTAMP:20260423T175025Z
URL:http://business.fvchamber.com/events/details/experience-fountain-valley-4948
END:VEVENT

END:VCALENDAR
