BEGIN:VCALENDAR
VERSION:2.0
PRODID:-//ChamberMaster//Event Calendar 2.0//EN
METHOD:PUBLISH
X-PUBLISHED-TTL:P3D
REFRESH-INTERVAL:P3D
CALSCALE:GREGORIAN
BEGIN:VEVENT
DTSTART:20220217T020000Z
DTEND:20220217T033000Z
X-MICROSOFT-CDO-ALLDAYEVENT:FALSE
SUMMARY:Expand Your Business with Marketing and Sales
DESCRIPTION:There is only one boss: CUSTOMERS! Growth in your business is all about attracting new customers and/or expanding what your existing customers are buying from you. In this webinar\, you will learn how to hone your efforts on bettering the outcomes of your current marketing initiatives\, defining the target areas that you are trying to reach\, and developing a strategy to grow your customer base. During this webinar\, we will cover:\n\nCustomer Marketing\n\n	What is your Marketing Strategy?\n	Breakdown of your Customers-Who are they?\n	Marketing Channels- Where are you Marketing? Where should you be Marketing?\n\nCustomer: Sales\n\n\n	Revenue Analysis\n	Sales Channel Analysis
X-ALT-DESC;FMTTYPE=text/html:There is only one boss: CUSTOMERS! Growth in your business is all about attracting new customers and/or expanding what your existing customers are buying from you. In this webinar\, you will learn how to hone your efforts on bettering the outcomes of your current marketing initiatives\, defining the target areas that you are trying to reach\, and developing a strategy to grow your customer base. During this webinar\, we will cover:<br />\nCustomer Marketing\n<ul>\n	<li>What is your Marketing Strategy?</li>\n	<li>Breakdown of your Customers-Who are they?</li>\n	<li>Marketing Channels- Where are you Marketing? Where should you be Marketing?</li>\n</ul>\nCustomer: Sales\n\n<ul>\n	<li>Revenue Analysis</li>\n	<li>Sales Channel Analysis</li>\n</ul>\n
LOCATION:Zoom
UID:e.2030.5566
SEQUENCE:3
DTSTAMP:20260421T014332Z
URL:http://business.fvchamber.com/events/details/expand-your-business-with-marketing-and-sales-5566
END:VEVENT

END:VCALENDAR
