BEGIN:VCALENDAR
VERSION:2.0
PRODID:-//ChamberMaster//Event Calendar 2.0//EN
METHOD:PUBLISH
X-PUBLISHED-TTL:P3D
REFRESH-INTERVAL:P3D
CALSCALE:GREGORIAN
BEGIN:VEVENT
DTSTART:20180110T000000Z
DTEND:20180110T010000Z
X-MICROSOFT-CDO-ALLDAYEVENT:FALSE
SUMMARY:Events Committee Meeting
DESCRIPTION:Events Committee Meeting
X-ALT-DESC;FMTTYPE=text/html:<span style="font-size:14px\;"><strong>Events Committee Meeting</strong></span>
LOCATION:Cambalache Grill Argentine & Italian Cuisine 8780 Warner Ave.\, #15 Fountain Valley
UID:e.2030.4389
SEQUENCE:3
DTSTAMP:20260424T072343Z
URL:http://business.fvchamber.com/events/details/events-committee-meeting-4389
END:VEVENT

END:VCALENDAR
