BEGIN:VCALENDAR
VERSION:2.0
PRODID:-//ChamberMaster//Event Calendar 2.0//EN
METHOD:PUBLISH
X-PUBLISHED-TTL:P3D
REFRESH-INTERVAL:P3D
CALSCALE:GREGORIAN
BEGIN:VEVENT
DTSTART:20170309T000000Z
DTEND:20170309T010000Z
X-MICROSOFT-CDO-ALLDAYEVENT:FALSE
SUMMARY:Events Committee Meeting
DESCRIPTION:Fountain Valley Chamber of Commerce\n\nEvents Committee Meeting
X-ALT-DESC;FMTTYPE=text/html:<strong><span style="font-size:18px\;">Fountain Valley Chamber of Commerce</span><br />\n<span style="font-size:16px\;">Events Committee Meeting</span></strong>
LOCATION:Fountain Valley Chamber 10055 Slater Ave.\, #250 Fountain Valley
UID:e.2030.3879
SEQUENCE:3
DTSTAMP:20260424T230801Z
URL:http://business.fvchamber.com/events/details/events-committee-meeting-3879
END:VEVENT

END:VCALENDAR
