BEGIN:VCALENDAR
VERSION:2.0
PRODID:-//ChamberMaster//Event Calendar 2.0//EN
METHOD:PUBLISH
X-PUBLISHED-TTL:P3D
REFRESH-INTERVAL:P3D
CALSCALE:GREGORIAN
BEGIN:VEVENT
DTSTART:20181205T000000Z
DTEND:20181205T013000Z
X-MICROSOFT-CDO-ALLDAYEVENT:FALSE
SUMMARY:Events Committee Meeting
DESCRIPTION:Events Committee Meeting
X-ALT-DESC;FMTTYPE=text/html:<strong><span style="font-size:14px\;">Events Committee Meeting</span></strong>
LOCATION:Silky Sullivan's Restaurant 10201 Slater Ave. Fountain Valley
UID:e.2030.4400
SEQUENCE:3
DTSTAMP:20260423T143446Z
URL:http://business.fvchamber.com/events/details/events-committee-meeting-12-04-2018-4400
END:VEVENT

END:VCALENDAR
