BEGIN:VCALENDAR
VERSION:2.0
PRODID:-//ChamberMaster//Event Calendar 2.0//EN
METHOD:PUBLISH
X-PUBLISHED-TTL:P3D
REFRESH-INTERVAL:P3D
CALSCALE:GREGORIAN
BEGIN:VEVENT
DTSTART:20211102T230000Z
DTEND:20211103T003000Z
X-MICROSOFT-CDO-ALLDAYEVENT:FALSE
SUMMARY:Events Committee Meeting
DESCRIPTION:Events Committee Meeting
X-ALT-DESC;FMTTYPE=text/html:<strong><span style="font-size:14px\;">Events Committee Meeting</span></strong>
LOCATION:TBD
UID:e.2030.4435
SEQUENCE:3
DTSTAMP:20260421T051019Z
URL:http://business.fvchamber.com/events/details/events-committee-meeting-11-02-2021-4435
END:VEVENT

END:VCALENDAR
