BEGIN:VCALENDAR
VERSION:2.0
PRODID:-//ChamberMaster//Event Calendar 2.0//EN
METHOD:PUBLISH
X-PUBLISHED-TTL:P3D
REFRESH-INTERVAL:P3D
CALSCALE:GREGORIAN
BEGIN:VEVENT
DTSTART:20180911T230000Z
DTEND:20180912T003000Z
X-MICROSOFT-CDO-ALLDAYEVENT:FALSE
SUMMARY:Events Committee Meeting
DESCRIPTION:Events Committee Meeting
X-ALT-DESC;FMTTYPE=text/html:<strong><span style="font-size:14px\;">Events Committee Meeting</span></strong>
LOCATION:Spoons Grill & Bar (inside Ayres Hotel FV) 17550 Brookhurst St. Fountain Valley
UID:e.2030.4397
SEQUENCE:3
DTSTAMP:20260423T191359Z
URL:http://business.fvchamber.com/events/details/events-committee-meeting-09-04-2018-4397
END:VEVENT

END:VCALENDAR
