BEGIN:VCALENDAR
VERSION:2.0
PRODID:-//ChamberMaster//Event Calendar 2.0//EN
METHOD:PUBLISH
X-PUBLISHED-TTL:P3D
REFRESH-INTERVAL:P3D
CALSCALE:GREGORIAN
BEGIN:VEVENT
DTSTART:20180710T230000Z
DTEND:20180711T003000Z
X-MICROSOFT-CDO-ALLDAYEVENT:FALSE
SUMMARY:Events Committee Meeting
DESCRIPTION:Events Committee Meeting
X-ALT-DESC;FMTTYPE=text/html:<strong><span style="font-size:14px\;">Events Committee Meeting</span></strong>
LOCATION:Spoons Grill & Bar (Inside Ayres Hotel FV) 17550 Brookhurst St. Fountain Valley
UID:e.2030.4395
SEQUENCE:3
DTSTAMP:20260423T221343Z
URL:http://business.fvchamber.com/events/details/events-committee-meeting-07-03-2018-4395
END:VEVENT

END:VCALENDAR
