BEGIN:VCALENDAR
VERSION:2.0
PRODID:-//ChamberMaster//Event Calendar 2.0//EN
METHOD:PUBLISH
X-PUBLISHED-TTL:P3D
REFRESH-INTERVAL:P3D
CALSCALE:GREGORIAN
BEGIN:VEVENT
DTSTART:20230916T000000Z
DTEND:20230916T030000Z
X-MICROSOFT-CDO-ALLDAYEVENT:FALSE
SUMMARY:Endless Summer BBQ Party
DESCRIPTION:We don't want summer to end! Join us for an Endless Summer BBQ Party filled with family fun!\n\n\n\nWhat's included in your ticket?\n\nA BBQ Feast\, 2 drink tickets\, sand art\, line dancing\, shaved ice\, and MORE!
X-ALT-DESC;FMTTYPE=text/html:<span style="color:#000080\;"><span style="font-size:26px\;"><span style="font-family:tahoma\;"><strong>We don&#39\;t want summer to end! Join us for an Endless Summer BBQ Party filled with family fun!<br />\n<br />\nWhat&#39\;s included in your ticket?<br />\nA BBQ Feast\, 2 drink tickets\, sand art\, line dancing\, shaved ice\, and MORE!</strong></span></span></span>
LOCATION:Founder's Village 17967 Bushard St. Fountain Valley\, CA 92708
UID:e.2030.6190
SEQUENCE:3
DTSTAMP:20260419T174648Z
URL:http://business.fvchamber.com/events/details/endless-summer-bbq-party-6190
END:VEVENT

END:VCALENDAR
