BEGIN:VCALENDAR
VERSION:2.0
PRODID:-//ChamberMaster//Event Calendar 2.0//EN
METHOD:PUBLISH
X-PUBLISHED-TTL:P3D
REFRESH-INTERVAL:P3D
CALSCALE:GREGORIAN
BEGIN:VEVENT
DTSTART:20160628T003000Z
DTEND:20160628T023000Z
X-MICROSOFT-CDO-ALLDAYEVENT:FALSE
SUMMARY:Emerging Leaders Connection Bowling Night
DESCRIPTION:Emerging Leaders Connection\n\nBowling Night
X-ALT-DESC;FMTTYPE=text/html:<span style="font-size:16px\;"><strong>Emerging Leaders Connection</strong></span><br />\n<span style="font-size:20px\;"><strong>Bowling Night</strong></span>
LOCATION:Fountain Bowl 17110 Brookhurst St. Fountain Valley
UID:e.2030.2814
SEQUENCE:3
DTSTAMP:20260425T124534Z
URL:http://business.fvchamber.com/events/details/emerging-leaders-connection-bowling-night-06-27-2016-2814
END:VEVENT

END:VCALENDAR
