BEGIN:VCALENDAR
VERSION:2.0
PRODID:-//ChamberMaster//Event Calendar 2.0//EN
METHOD:PUBLISH
X-PUBLISHED-TTL:P3D
REFRESH-INTERVAL:P3D
CALSCALE:GREGORIAN
BEGIN:VEVENT
DTSTART:20190607T233000Z
DTEND:20190608T003000Z
X-MICROSOFT-CDO-ALLDAYEVENT:FALSE
SUMMARY:Elwyn Ribbon Cutting
DESCRIPTION:Join the Fountain Valley Chamber of Commerce as we welcome this business to our amazing city with their very own Ribbon Cutting
X-ALT-DESC;FMTTYPE=text/html:<strong><span style="color:#008000\;"><span style="font-family:verdana\;"><span style="font-size:16px\;">Join the Fountain Valley Chamber of Commerce as we welcome this business to our amazing city with their very own Ribbon Cutting</span></span></span></strong>
LOCATION:18325 Mt. Baldy Circle Fountain Valley\, CA 92708
UID:e.2030.5115
SEQUENCE:3
DTSTAMP:20260423T053350Z
URL:http://business.fvchamber.com/events/details/elwyn-ribbon-cutting-5115
END:VEVENT

END:VCALENDAR
