BEGIN:VCALENDAR
VERSION:2.0
PRODID:-//ChamberMaster//Event Calendar 2.0//EN
METHOD:PUBLISH
X-PUBLISHED-TTL:P3D
REFRESH-INTERVAL:P3D
CALSCALE:GREGORIAN
BEGIN:VEVENT
DTSTART:20150926T173000Z
DTEND:20150926T203000Z
X-MICROSOFT-CDO-ALLDAYEVENT:FALSE
SUMMARY:Elwyn California's Fall Fling
DESCRIPTION:Elwyn California\n\nFall Fashion Fling Brunch
X-ALT-DESC;FMTTYPE=text/html:Elwyn California<br />\nFall Fashion Fling Brunch
LOCATION:Mesa Verde Country Club Clubhouse Road Costa Mesa\, CA
UID:e.2030.1733
SEQUENCE:3
DTSTAMP:20260426T030415Z
URL:http://business.fvchamber.com/events/details/elwyn-california-s-fall-fling-09-26-2015-1733
END:VEVENT

END:VCALENDAR
