BEGIN:VCALENDAR
VERSION:2.0
PRODID:-//ChamberMaster//Event Calendar 2.0//EN
METHOD:PUBLISH
X-PUBLISHED-TTL:P3D
REFRESH-INTERVAL:P3D
CALSCALE:GREGORIAN
BEGIN:VEVENT
DTSTART:20170923T170000Z
DTEND:20170923T210000Z
X-MICROSOFT-CDO-ALLDAYEVENT:FALSE
SUMMARY:Elwyn California Rock'n Fifties Fall Fling
DESCRIPTION:Elwyn California\n\nRock'n Fifties\n\nFall Fling
X-ALT-DESC;FMTTYPE=text/html:<span style="font-size:14px\;"><strong>Elwyn California</strong></span><br />\n<span style="font-size:18px\;"><strong>Rock&#39\;n Fifties</strong></span><br />\n<span style="font-size:16px\;"><em><strong>Fall Fling</strong></em></span>
LOCATION:Great Wolf Lodge 12681 Harbor Blvd. Garden Grove\, CA 92840
UID:e.2030.4220
SEQUENCE:3
DTSTAMP:20260424T143238Z
URL:http://business.fvchamber.com/events/details/elwyn-california-rock-n-fifties-fall-fling-4220
END:VEVENT

END:VCALENDAR
