BEGIN:VCALENDAR
VERSION:2.0
PRODID:-//ChamberMaster//Event Calendar 2.0//EN
METHOD:PUBLISH
X-PUBLISHED-TTL:P3D
REFRESH-INTERVAL:P3D
CALSCALE:GREGORIAN
BEGIN:VEVENT
DTSTART:20180719T003000Z
DTEND:20180719T023000Z
X-MICROSOFT-CDO-ALLDAYEVENT:FALSE
SUMMARY:Elwyn California Mixer
DESCRIPTION:Elwyn California Mixer\n\nwith Garden Grove Chamber of Commerce
X-ALT-DESC;FMTTYPE=text/html:<span style="font-size:18px\;"><strong>Elwyn California Mixer</strong></span><br />\n<em><span style="font-size:14px\;"><strong>with Garden Grove Chamber of Commerce</strong></span></em>
LOCATION:Elwyn California 18325 Mt. Baldy Circle Fountain Valley
UID:e.2030.4658
SEQUENCE:3
DTSTAMP:20260423T221140Z
URL:http://business.fvchamber.com/events/details/elwyn-california-mixer-4658
END:VEVENT

END:VCALENDAR
