BEGIN:VCALENDAR
VERSION:2.0
PRODID:-//ChamberMaster//Event Calendar 2.0//EN
METHOD:PUBLISH
X-PUBLISHED-TTL:P3D
REFRESH-INTERVAL:P3D
CALSCALE:GREGORIAN
BEGIN:VEVENT
DTSTART:20170517T180000Z
DTEND:20170517T210000Z
X-MICROSOFT-CDO-ALLDAYEVENT:FALSE
SUMMARY:Elwyn CA Friends & Family Day
DESCRIPTION:Elwyn CA\n\nFriends & Family Day
X-ALT-DESC;FMTTYPE=text/html:<span style="font-size:14px\;"><strong>Elwyn CA</strong></span><br />\n<span style="font-size:16px\;"><strong>Friends &amp\; Family Day</strong></span>
LOCATION:18325 Mt. Baldy Circle Fountain Valley
UID:e.2030.4146
SEQUENCE:3
DTSTAMP:20260424T201434Z
URL:http://business.fvchamber.com/events/details/elwyn-ca-friends-family-day-4146
END:VEVENT

END:VCALENDAR
